BEGIN:VCALENDAR
VERSION:2.0
PRODID:-//Integrationsbeauftragter der Bayerischen Staatsregierung - ECPv6.15.17//NONSGML v1.0//EN
CALSCALE:GREGORIAN
METHOD:PUBLISH
X-WR-CALNAME:Integrationsbeauftragter der Bayerischen Staatsregierung
X-ORIGINAL-URL:https://integrationsbeauftragter.bayern.de
X-WR-CALDESC:Veranstaltungen für Integrationsbeauftragter der Bayerischen Staatsregierung
REFRESH-INTERVAL;VALUE=DURATION:PT1H
X-Robots-Tag:noindex
X-PUBLISHED-TTL:PT1H
BEGIN:VTIMEZONE
TZID:Europe/Berlin
BEGIN:DAYLIGHT
TZOFFSETFROM:+0100
TZOFFSETTO:+0200
TZNAME:CEST
DTSTART:20240331T010000
END:DAYLIGHT
BEGIN:STANDARD
TZOFFSETFROM:+0200
TZOFFSETTO:+0100
TZNAME:CET
DTSTART:20241027T010000
END:STANDARD
BEGIN:DAYLIGHT
TZOFFSETFROM:+0100
TZOFFSETTO:+0200
TZNAME:CEST
DTSTART:20250330T010000
END:DAYLIGHT
BEGIN:STANDARD
TZOFFSETFROM:+0200
TZOFFSETTO:+0100
TZNAME:CET
DTSTART:20251026T010000
END:STANDARD
BEGIN:DAYLIGHT
TZOFFSETFROM:+0100
TZOFFSETTO:+0200
TZNAME:CEST
DTSTART:20260329T010000
END:DAYLIGHT
BEGIN:STANDARD
TZOFFSETFROM:+0200
TZOFFSETTO:+0100
TZNAME:CET
DTSTART:20261025T010000
END:STANDARD
END:VTIMEZONE
BEGIN:VEVENT
DTSTART;VALUE=DATE:20251210
DTEND;VALUE=DATE:20251211
DTSTAMP:20260421T040256
CREATED:20240523T135754Z
LAST-MODIFIED:20250303T163119Z
UID:15038-1765324800-1765411199@integrationsbeauftragter.bayern.de
SUMMARY:Tag der Menschenrechte
DESCRIPTION:https://de.wikipedia.org/wiki/Tag_der_Menschenrechte
URL:https://integrationsbeauftragter.bayern.de/event/tag-der-menschenrechte/
CATEGORIES:Internationaler bzw. sonstiger Gedenk-Tag
END:VEVENT
END:VCALENDAR